BEGIN:VCALENDAR
VERSION:2.0
CALSCALE:GREGORIAN
PRODID:-//Diputació de Barcelona//DibaCMS//EN
BEGIN:VEVENT
UID:29079
DTSTAMP:20260423T021845
DTSTART:20260410T000000
DTEND:20260423T235900
SUMMARY:Gimcana Literària: Cerca el Llibre Intrús!
LOCATION:Comerços de Piera.  
METHOD:PUBLISH
X-WR-CALNAME:e-seu@ajpiera.cat
X-WR-TIMEZONE:Europe/Madrid
DESCRIPTION:Troba els títols que el Drac dels Llibres ha amagat als aparadors dels comerços de Piera!

Se sortejaran 3 tablets per als guanyadors i guanyadores d'aquesta gimcana literària, i podeu participar-hi fins al 23 d'abril. 

Els premis es lliuraran el diumenge 26 d'abril, durant la Fira del Sant Crist, al migdia. 

URI:https://www.viladepiera.cat/actualitat/agenda/gimcana-literaria-cerca-el-llibre-intrus.html
CLASS:PUBLIC
END:VEVENT
END:VCALENDAR
