BEGIN:VCALENDAR
VERSION:2.0
CALSCALE:GREGORIAN
PRODID:-//Diputació de Barcelona//DibaCMS//EN
BEGIN:VEVENT
UID:29082
DTSTAMP:20260423T031904
DTSTART:20260517T080000
DTEND:20260517T160000
SUMMARY:III Pujada Popular a Montserrat
LOCATION:Aparcament públic del nucli històric de Collbató 
METHOD:PUBLISH
X-WR-CALNAME:e-seu@ajpiera.cat
X-WR-TIMEZONE:Europe/Madrid
DESCRIPTION:L’entitat Expedicionistes de Piera organitza la III Pujada Popular a Montserrat, una sortida de senderisme per conèixer el patrimoni i l’entorn natural de la muntanya.

El recorregut, d’uns 16 km i amb un desnivell aproximat de 750 metres, inclou l’ascens pel Camí de les Bateries i el descens per la Santa Cova i la Cova de Salnitre. La caminada té una durada aproximada de 8 hores, en funció de les aturades per esmorzar i dinar.

L’activitat és oberta a tothom i es recomana portar calçat adequat i bastons. El desplaçament es farà en vehicle fins a Collbató, amb la possibilitat de sortir en grup des de Piera.

Cal inscripció prèvia a través de WhatsApp al telèfon 695 45 99 19.

URI:https://www.viladepiera.cat/actualitat/agenda/iii-pujada-popular-a-montserrat.html
CLASS:PUBLIC
END:VEVENT
END:VCALENDAR
