BEGIN:VCALENDAR
VERSION:2.0
CALSCALE:GREGORIAN
PRODID:-//Diputació de Barcelona//DibaCMS//EN
BEGIN:VEVENT
UID:29085
DTSTAMP:20260423T015726
DTSTART:20260513T103000
DTEND:20260513T130000
SUMMARY:Visita de la Unitat Mòbil d'Informació al Consumidor
LOCATION:Aparcament de la Comissaria de Policia Local (Carrer de Folch i Torres, 35-37 - 08784 Piera) 
METHOD:PUBLISH
X-WR-CALNAME:e-seu@ajpiera.cat
X-WR-TIMEZONE:Europe/Madrid
DESCRIPTION:
URI:https://www.viladepiera.cat/actualitat/agenda/29085-visita-de-la-unitat-mobil-dinformacio-al-consumidor.html
CLASS:PUBLIC
END:VEVENT
END:VCALENDAR
