BEGIN:VCALENDAR
VERSION:2.0
CALSCALE:GREGORIAN
PRODID:-//Diputació de Barcelona//DibaCMS//EN
BEGIN:VEVENT
UID:29087
DTSTAMP:20260423T043550
DTSTART:20260524T090000
DTEND:20260524T090000
SUMMARY:Mini creuer per la Costa Daurada
LOCATION:Costa Daurada (Salou i Cambrils) 
METHOD:PUBLISH
X-WR-CALNAME:e-seu@ajpiera.cat
X-WR-TIMEZONE:Europe/Madrid
DESCRIPTION:L’Associació de la Gent Gran de Piera organitza una sortida d’un dia a la Costa Daurada, amb visita a Salou i Cambrils i mini creuer entre les dues poblacions.

L’activitat inclou trasllat en autocar de luxe, passeig en vaixell, dinar en restaurant i assegurança de viatge.

El preu de l’activitat és de 65 €.

Per a més informació i reserves, es pot contactar amb l’organització al telèfon 691 68 74 92.

URI:https://www.viladepiera.cat/actualitat/agenda/mini-creuer-per-la-costa-daurada.html
CLASS:PUBLIC
END:VEVENT
END:VCALENDAR
