BEGIN:VCALENDAR
VERSION:2.0
CALSCALE:GREGORIAN
PRODID:-//Diputació de Barcelona//DibaCMS//EN
BEGIN:VEVENT
UID:29168
DTSTAMP:20260423T043342
DTSTART:20260515T193000
DTEND:20260515T193000
SUMMARY:Cicle Gaudí: Sirât
LOCATION:Carrer de la Plaça, 17 08784 Piera
METHOD:PUBLISH
X-WR-CALNAME:e-seu@ajpiera.cat
X-WR-TIMEZONE:Europe/Madrid
DESCRIPTION:Sergi López i Bruno Núñez protagonitzen la nova pel·lícula d'Oliver Laxe, Sirât. 

Un home i el seu fill arriben a una rave perduda enmig de les muntanyes del sud del Marroc. Busquen a la Mar, la seva filla i germana, desapareguda fa mesos en una d'aquestes festes sense alba. Reparteixen la seva foto una vegada i una altra envoltats de música electrònica i un tipus de llibertat que desconeixen. Allí decideixen seguir a un grup de raveros en la cerca d'una última festa que se celebrarà en el desert, on esperen trobar a la jove desapareguda.

Sirât, que es traduiria com a “camí” o “via”, representa un camí que té dues dimensions, la física i la metafísica o espiritual, així com el pont que uneix infern i paradís. Segons paraules del director, és "el camí interior que t'empeny a morir abans de morir".

NO recomanada per a menors de 16 anys. 

URI:https://www.viladepiera.cat/actualitat/agenda/cicle-gaudi-sirat.html
CLASS:PUBLIC
END:VEVENT
END:VCALENDAR
