BEGIN:VCALENDAR
VERSION:2.0
CALSCALE:GREGORIAN
PRODID:-//Diputació de Barcelona//DibaCMS//EN
BEGIN:VEVENT
UID:29169
DTSTAMP:20260423T015757
DTSTART:20260502T113000
DTEND:20260502T113000
SUMMARY:Cinexic: Ernest i Celestine contes de primavera
LOCATION:Carrer de la Plaça, 17 08784 Piera
METHOD:PUBLISH
X-WR-CALNAME:e-seu@ajpiera.cat
X-WR-TIMEZONE:Europe/Madrid
DESCRIPTION:Arriba la primavera i, amb ella, el bon temps, el sol i el vent de Charabia, terra natal d’Ernest, que anuncia el canvi d’estació. Per celebrar la seva arribada, la Celestine i les seves amigues les ratetes preparen deliciosos pastissos i bonics decorats florals.

Noves i acolorides aventures de la parella formada per la intel·ligent rateta Celestine i l’Ernest, un os gran i somiador.

URI:https://www.viladepiera.cat/actualitat/agenda/cinexic-ernest-i-celestine-contes-de-primavera.html
CLASS:PUBLIC
END:VEVENT
END:VCALENDAR
