BEGIN:VCALENDAR
VERSION:2.0
CALSCALE:GREGORIAN
PRODID:-//Diputació de Barcelona//DibaCMS//EN
BEGIN:VEVENT
UID:29174
DTSTAMP:20260423T000420
DTSTART:20260617T120000
DTEND:20260617T140000
SUMMARY:L'OAC mòbil arriba a Piera!
LOCATION:Carrer de l'Era del Poch, 08784 
METHOD:PUBLISH
X-WR-CALNAME:e-seu@ajpiera.cat
X-WR-TIMEZONE:Europe/Madrid
DESCRIPTION:Necessites fer gestions amb la Generalitat? Vols informació sobre serveis?

La Generalitat de Catalunya posa en marxa l'Oficina d’atenció ciutadana mòbil de suport a la tramitació a Piera. El servei té per objectiu oferir acompanyament a la ciutadania en municipis allunyats o amb dificultat per accedir a les oficines d’atenció ciutadana en les seves gestions amb l’Administració de la Generalitat. 

L’oficina mòbil donarà atenció presencial per:


	Oferir informació general sobre serveis i tràmits.
	Oferir suport per fer gestions en línia.
	Oferir suport en l’alta i la utilització dels sistemes d’identificació digital. 
	Gestionar cites pels diferents canals d’atenció.
	Gestionar consultes, queixes i suggeriments.
	Fer gestions des de l’espai d’autoservei.


Per a més informació, podeu consultar la seva pàgina web: web.gencat.cat/ca/atenem/oac-mobil

URI:https://www.viladepiera.cat/actualitat/agenda/29174-loac-mobil-arriba-a-piera.html
CLASS:PUBLIC
END:VEVENT
END:VCALENDAR
